{"text_format":"1","workbook":"xlsx","n_sheets":9,"sheets":["入力案内","基本情報","様式1交付申請","様式2事業計画","様式5実績報告書","様式6事業実績報告","様式2-1個別接種(病院用)","様式2-1個別接種(診療所用)","Sheet1"],"not_rendered":{"charts":0,"images":0,"macros":1,"external_links":1,"defined_names":192,"comments":1,"pivot_tables":0},"unopened":[],"bounds":{"document_bytes":16777216,"sheet_cells":100000,"rows_first":2000,"rows_last":500,"rows_between":2000,"halvings":0,"cell_chars":16384,"cell_head_chars":4096},"cells_cut":0,"cells_raw":0,"read":"whole","date_system":"1900"}

{"sheet":"入力案内","index":0,"n_rows":33,"n_cols":7,"rows_kept":33,"cut":false,"hidden":false,"merged":[[17,1,17,12],[4,1,4,12],[6,1,6,12],[8,1,8,12],[13,1,13,12],[0,6,0,12],[0,1,0,3],[19,1,19,12],[1,1,1,12],[33,1,33,12],[20,1,20,12],[27,1,27,12],[29,1,29,12],[31,1,31,12],[32,1,32,12],[22,1,22,12],[23,1,23,12],[25,1,25,12],[18,1,18,12],[10,1,10,12],[15,1,15,12],[36,1,36,12],[38,1,38,12],[40,1,40,12],[42,1,42,12],[43,1,43,12]]}
[null,"入力案内 (Ver4.1)",null,null,null,null,"基本情報入力画面への移動はここをクリック　"]
[null,"※ここでは、令和4年度（２０２2年度）熊本県新型コロナウイルスワクチン個別接種\n促進事業費補助金に関する申請（請求）から実績までの入力等の流れを簡単に説明しています。\n　詳細内容の説明については「申請マニュアル」をご確認ください。"]
[null,"１．まずは基本情報シートから基本情報を入力してください。"]
[null,"　①申請者情報"]
[null,"　　法人等の住所、代表者、医療機関名、担当者等を入力します。"]
[null,"　②振込口座情報"]
[null,"　　補助金の振込み先の口座情報を入力します。"]
[]
[null,"２．次に交付申請及び概算請求のための申請・請求情報を入力し、各様式を順番に\n　　作成してください。作成後は基本情報のシート内の「⑤申請書類の印刷」\n　　から申請書等を印刷します。"]
[null,"　③申請・請求情報の入力"]
[null,"　　申請日を入力し、対象期間に間違いがないか確認します。"]
[null,"　④交付申請・請求書類の作成"]
[null,"　・様式2-1 個別接種計画書（病院用）、個別接種計画書（診療所用）の作成"]
[null,"　　病院、診療所でシートが違いますので注意してください。\n　　医療機関で実施した個別接種の接種回数、特別体制の医師等の従事時間を\n　　実施日ごとに入力します。"]
[null,"　・様式2 事業計画書の確認　"]
[null,"　　様式2-1を入力すると入力内容が反映されますので、\n　　内容に誤りがないか確認します。"]
[null,"　・様式1 交付申請書兼概算払請求書の確認　"]
[null,"　　様式2-1を入力すると入力内容が反映されますので、\n　　内容に誤りがないか確認します。"]
[null,"　以上で、交付申請書類の作成は終了となります。基本情報シート内の「⑤申請書類の印刷」から申請書等を印刷し、内容に誤りがないか確認したものを県へ提出してください。※申請書類には口座情報がわかる資料（通帳の写し等）の提出が必要となりますので、注意してください。"]
[null,"　申請書類の提出後、県から交付決定通知書が送付されますので、以下の手順で実績報告書類を作成し、県へ提出してください。\n　交付決定の通知と同時に登録口座へ交付金の振込みを行いますが、実績報告書類の提出がない場合は、返還を求めることとなりますので、必ず実績報告書類を県へ提出してください。"]
[null,"３．次に実績報告のための実績報告情報を入力し、各様式を順番に作成してください。\n　　作成後は基本情報シート内の「⑧実績書類の印刷」から実績書等を印刷します。"]
[null,"　⑥実績報告情報の入力"]
[null,"　　実績報告日、交付決定通知番号及び交付決定通知日を入力します。"]
[null,"　　※交付決定通知番号及び交付決定通知日は、県から送付される決定通知書を\n　　　確認のうえ、番号と日付を入力してください。"]
[null,"　⑦実績報告書類の作成"]
[null,"　　様式2-1については、交付申請時と同じものを使用します。\n　　交付申請から内容に変更がなければ入力は不要となります。\n　　様式6 事業実績報告の確認から手続きを進めてください。"]
[null,"　・様式2-1 個別接種計画書（病院用）、個別接種計画書（診療所用）の作成"]
[null,"　　病院、診療所でシートが違いますので注意してください。\n　　医療機関で実施した個別接種の接種回数、特別体制の医師等の従事時間を\n　　実施日ごとに入力します。"]
[null,"　・様式6 事業実績報告書の確認　"]
[null,"　　様式2-1を入力すると入力内容が反映されますので、\n　　内容に誤りがないか確認します。"]
[null,"　・様式5 実績報告書の確認　"]
[null,"　　様式2-1を入力すると入力内容が反映されますので、\n　　内容に誤りがないか確認します。"]
[null,"　以上で、実績報告書類の作成は終了となります。基本情報シート内の「⑧実績書類の印刷」から実績報告書等を印刷し、内容に誤りがないか確認のうえ、県が設置した申請受付窓口へ提出してください。"]

{"sheet":"基本情報","index":1,"n_rows":58,"n_cols":16,"rows_kept":58,"cut":false,"hidden":false,"merged":[[0,3,0,18],[16,2,16,11],[2,3,2,5],[3,2,3,11],[4,2,4,11],[14,2,14,11],[10,2,10,11],[11,2,11,11],[8,2,8,11],[9,2,9,11],[15,6,15,11],[5,2,5,11],[51,1,51,9],[52,1,52,9],[53,1,53,9],[47,2,47,3],[46,2,46,4],[46,5,46,8],[20,2,20,11],[21,2,21,11],[26,2,26,5],[27,2,27,5],[28,2,28,5],[45,2,45,3],[38,1,42,6],[18,2,18,6],[17,5,17,11],[38,15,40,23],[57,15,59,23],[57,1,61,6],[54,1,54,9],[6,2,6,11],[24,2,24,3],[35,1,35,9],[32,1,32,9],[34,1,34,9],[25,2,25,11],[33,1,33,9]]}
[null,"基本情報入力画面",null,"申請・請求を行う場合は、①、②、③、④が入力されているか確認してください。\n実績報告を行う場合は、①、②、⑥、⑦が入力されているか確認してください。"]
[null,"①申請者情報"]
[null," 郵便番号","〒"]
[null," 住所",null,null,null,null,null,null,null,null,null,null," ※法人又は個人の事業所の住所を記載してください。"]
[null," 法人名等",null,null,null,null,null,null,null,null,null,null," ※個人事業の場合は医療機関名を記載してください。"]
[null," 代表者 役職・氏名",null,null,null,null,null,null,null,null,null,null," ※法人又は個人事業の代表者の役職・氏名を記載してください。"]
[null," 医療機関名",null,null,null,null,null,null,null,null,null,null," ※医療機関名を記載してください。"]
[null," 医療機関コード(10桁)",4,3,1,null,null,null,null,null,null,null," ※医療機関コードを記載してください。"]
[null," 担当者：氏名",null,null,null,null,null,null,null,null,null,null," ※申請に関する担当者の氏名を記載してください。"]
[null," 担当者：電話番号",null,null,null,null,null,null,null,null,null,null," ※担当者の連絡先を記載してください。"]
[null," 書類作成責任者：職・氏名",null,null,null,null,null,null,null,null,null,null," ※申請書類に関する責任者の氏名を記載してください。"]
[null," 書類作成責任者：電話番号",null,null,null,null,null,null,null,null,null,null," ※責任者の連絡先を記載してください。"]
[]
[null,"②振込口座情報 ※申請者名義の口座を記入してください。申請者名義以外の口座へ振込む場合は委任状が必要となります。"]
[null," 金融機関名",null,null,null,null,null,null,null,null,null,null," ※振込先の金融機関名を記載してください。"]
[null," 金融機関コード",null,null,null,null,null,null,null,null,null,null," ※金融機関のコードを記載してください。"]
[null," 支店名",null,null,null,null,null,null,null,null,null,null," ※金融機関の支店名を記載してください。"]
[null," 支店コード",null,null,null,null,null,null,null,null,null,null," ※金融機関の支店コードを記載してください。"]
[null," 預金種類",null,null,null,null,null,null,null,null,null,null," ※普通預金、当座預金、貯蓄預金のいずれかを記載してください。"]
[null," 口座番号（左詰め）",null,null,null,null,null,null,null,null,null,null," ※口座番号を左詰めで記載してください。"]
[null," （フリガナ）半角",null,null,null,null,null,null,null,null,null,null," ※口座名義人を記載してください。"]
[null," 口座名義人"]
[]
[null,"③申請・請求情報"]
[null," 申請年月日","令和",null,5,"年",null,"月",null,"日",null,null," ※交付申請日を記載してください。"]
[null," 対象期間","第10期　12月4日から2月4日の間",null,null,null,null,null,null,null,null,null," ※申請する対象期間をプルダウンから選択してください。"]
[null," 交付申請額",{"$f":"SUM(C28:L29)","v":0},null,null,null,"円",null,null,null,null,null," ※④の計画書等を入力することで申請額の総額（１、２の合計）が自動で表示されます。"]
[null," １．個別接種事業",{"$f":"様式1交付申請!G28","v":""},null,null,null,"円",null,null,null,null,null," ※④の計画書等を入力することで個別接種事業分の申請額が自動で表示されます。"]
[null," ２．接種体制確保事業",{"$f":"様式1交付申請!G29","v":""},null,null,null,"円",null,null,null,null,null," ※④の計画書等を入力することで接種体制確保事業の申請額が自動で表示されます。"]
[]
[null,"④交付申請・請求書類の作成"]
[null,"　 下記の様式名をクリックするとその様式のシートへ移動します。"]
[null,"　・様式2-1 個別接種計画書（病院用）の作成へ進む",null,null,null,null,null,null,null,null," ※日付毎に接種回数や特別な接種体制を確保した場合に医師、看護師等の従事した時間を記載してください。"]
[null,"　・様式2-1 個別接種計画書（診療所用）の作成へ進む",null,null,null,null,null,null,null,null," ※日付毎に接種回数を記載してください。"]
[null,"　・様式2 事業計画書を確認する",null,null,null,null,null,null,null,null," ※上記の様式2-1 個別接種計画書で入力した内容が反映されているか確認してください。"]
[null,"　・様式1 交付申請書兼概算払請求書を確認する",null,null,null,null,null,null,null,null," ※上記の様式2-1 個別接種計画書で入力した内容が反映されているか確認してください。"]
[]
[null,"⑤申請書類の印刷"]
[null,"　右の印刷ボタンをクリックすると申請に必要な各様式をまとめて印刷します。個別で印刷したい場合は、各様式のシートから印刷してください。病院用と診療所用に分かれていますので注意してください。",null,null,null,null,null,null,null,null,null,null,null,null,null,"※印刷ボタンが使用できない場合は、\n　 お手数ですが、シートごとに印刷してください。"]
[]
[]
[]
[]
[]
[null,"⑥実績報告情報"]
[null," 実績報告年月日","令和",null,null,"年",null,"月",null,"日","　※実績報告書を提出する日付を記載してください。"]
[null," 交付決定通知番号","健危管第",null,null,null,null,null,null,"号","　※県から送付された交付決定通知の番号を記載してください。"]
[null," 交付決定通知日","令和",null,null,"年",null,"月",null,"日","　※県から送付された交付決定通知の日付を記載してください。"]
[]
[null,"⑦実績報告書類の作成"]
[null,"　 下記の様式名をクリックするとその様式のシートへ移動します。"]
[null,"　・様式2-1 個別接種実績書（病院用）の作成へ進む"]
[null,"　・様式2-1 個別接種実績書（診療所用）の作成へ進む"]
[null,"　・様式6 事業実績報告書を確認する"]
[null,"　・様式5 実績報告書を確認する"]
[]
[null,"⑧実績書類の印刷"]
[null,"　右の印刷ボタンをクリックすると実績に必要な各様式をまとめて印刷します。個別で印刷したい場合は、各様式のシートから印刷してください。病院用と診療所用に分かれていますので注意してください。",null,null,null,null,null,null,null,null,null,null,null,null,null,"※印刷ボタンが使用できない場合は、\n　 お手数ですが、シートごとに印刷してください。"]

{"sheet":"様式1交付申請","index":2,"n_rows":41,"n_cols":13,"rows_kept":41,"cut":false,"hidden":false,"merged":[[38,10,38,12],[39,10,39,12],[38,3,38,7],[39,1,39,3],[38,1,38,2],[39,4,39,7],[38,8,38,9],[39,8,39,9],[0,0,0,4],[32,1,32,12],[7,1,7,6],[18,1,19,12],[30,1,30,12],[31,1,31,12],[10,8,10,12],[11,8,11,12],[12,8,12,12],[13,8,13,12],[28,6,28,7],[27,6,27,7],[9,8,9,9],[24,3,24,4],[24,5,24,7]]}
["基本情報入力画面へ戻る"]
[null,"様式１"]
[]
[]
[null,null,null,null,null,null,null,null,null,null,null,null,{"$f":"\"令和\"&基本情報!E25&\"年\"&基本情報!G25&\"月\"&基本情報!I25&\"日\"","v":"令和5年月日"}]
[]
[]
[null,"　熊本県知事　蒲島　郁夫　様"]
[]
[null,null,null,null,null,null,null,null,{"$f":"\"〒\"&基本情報!D3","v":"〒"}]
[null,null,null,null,null,null,null,"住所：",{"$f":"IF(基本情報!C4=\"\",\"\",基本情報!C4)","v":""}]
[null,null,null,null,null,null,null,"法人名：",{"$f":"IF(基本情報!C5=\"\",\"\",基本情報!C5)","v":""}]
[null,null,null,null,null,null,null,"代表者職・氏名：",{"$f":"IF(基本情報!C6=\"\",\"\",基本情報!C6)","v":""}]
[null,null,null,null,null,null,null,"医療機関等名：",{"$f":"IF(基本情報!C7=\"\",\"\",基本情報!C7)","v":""}]
[]
[]
[]
[]
[null,"　　　令和４年度（２０２２年度）熊本県新型コロナウイルスワクチン個別接種促進事業費補助金\n　　　交付申請書兼概算払請求書"]
[]
[]
[null,"　標記について、次により交付金を交付されるよう関係書類を添えて申請する。"]
[]
[]
[null,"１　申　請　額",null,"金",null,{"$f":"IF(SUM(G28,G29)=0,\"\",SUM(G28,G29))","v":""},null,null,"円"]
[]
[null,"　　（内訳）"]
[null,"　　　　１．個別接種事業",null,null,null,null,{"$f":"IF(様式2事業計画!V16=0,\"\",様式2事業計画!V16)","v":""},null,"円"]
[null,"　　　　２．個別接種体制確保事業",null,null,null,null,{"$f":"IF(様式2事業計画!V22=0,\"\",様式2事業計画!V22)","v":""},null,"円"]
[]
[null,"２　添付書類"]
[null,"　・事業計画書（様式２）"]
[null,"　・個別接種計画書（様式２－１）"]
[]
[]
[]
[]
[null,"【担当者等】"]
[null,"　担当者氏名：",null,{"$f":"基本情報!C9","v":0},null,null,null,null," 電話番号：",null,{"$f":"基本情報!C10","v":0}]
[null,"　書類発行責任者職・氏名：",null,null,{"$f":"基本情報!C11","v":0},null,null,null," 電話番号：",null,{"$f":"基本情報!C12","v":0}]
[null,"　※申請者の押印を省略する場合は、書類発行責任者の氏名等を記載すること。"]

{"sheet":"様式2事業計画","index":3,"n_rows":46,"n_cols":27,"rows_kept":46,"cut":false,"hidden":false,"merged":[[2,0,2,26],[0,0,0,6],[7,0,7,26],[8,1,8,2],[8,3,8,9],[3,0,3,26],[4,1,4,4],[4,15,4,18],[5,1,5,4],[5,5,5,14],[5,15,5,18],[5,19,5,26],[11,1,11,2],[11,3,11,12],[11,13,11,17],[11,18,11,20],[11,21,11,25],[12,21,12,24],[13,4,13,12],[13,13,13,14],[13,15,13,16],[13,18,13,20],[13,21,13,24],[12,1,14,2],[12,4,12,12],[12,13,12,14],[12,15,12,16],[12,18,12,20],[14,4,14,12],[14,13,14,14],[14,15,14,16],[14,18,14,20],[14,21,14,24],[27,6,27,13],[18,21,18,25],[21,21,21,24],[15,18,15,20],[15,21,15,24],[18,1,18,2],[18,3,18,9],[18,10,18,17],[18,18,18,20],[36,1,37,4],[21,15,21,17],[21,18,21,20],[27,1,27,5],[30,6,30,13],[23,1,23,17],[23,18,23,24],[25,0,25,26],[28,1,28,5],[31,1,31,5],[28,6,28,12],[31,6,31,12],[38,1,39,4],[40,1,41,4],[36,5,37,16],[38,5,39,16],[36,17,37,19],[19,1,20,2],[19,3,20,3],[19,4,20,9],[20,18,20,20],[20,21,20,24],[19,18,19,20],[19,21,19,24],[19,10,19,13],[20,10,20,13],[19,14,19,16],[20,14,20,16],[40,24,41,24],[40,25,41,25],[40,5,41,9],[40,18,41,18],[40,19,41,19],[40,20,41,20],[40,21,41,21],[40,22,41,22],[42,1,42,4],[43,1,43,4],[42,5,42,25],[43,5,43,25],[36,24,37,25],[38,23,39,25],[40,10,41,17],[36,20,37,20],[36,21,37,21],[36,22,37,22],[36,23,37,23],[38,20,39,20],[38,17,39,19],[38,21,39,21],[38,22,39,22],[40,23,41,23]]}
["基本情報入力画面へ戻る"]
["様式２"]
["新型コロナウイルスワクチン個別接種促進事業費補助金事業計画書"]
["１　申請者"]
[null,"医療機関\nコード(10桁)",null,null,null,4,3,1,{"$f":"基本情報!F8","v":0},{"$f":"基本情報!G8","v":0},{"$f":"基本情報!H8","v":0},{"$f":"基本情報!I8","v":0},{"$f":"基本情報!J8","v":0},{"$f":"基本情報!K8","v":0},{"$f":"基本情報!L8","v":0}]
[null,"医療機関名",null,null,null,{"$f":"基本情報!C7","v":0}]
[]
["２　事業計画"]
[null,"対象期間",null,{"$f":"基本情報!C26","v":"第10期　12月4日から2月4日の間"}]
[]
[null,"①個別接種事業"]
[null,"施設区分",null,"事業内容",null,null,null,null,null,null,null,null,null,"算出内訳",null,null,null,null,"補助単価",null,null,"基準額"]
[null,"診療所",null,"(1)","期間内に週１００回以上の接種を４週間以上行った。",null,null,null,null,null,null,null,null,"接種回数",null,{"$f":"'様式2-1個別接種(診療所用)'!G49","v":0},null,"回","２，０００円/回",null,null,{"$f":"P13*2000","v":0},null,null,null,"円"]
[null,null,null,"(2)","期間内に週１５０回以上の接種を４週間以上行った。",null,null,null,null,null,null,null,null,"接種回数",null,{"$f":"'様式2-1個別接種(診療所用)'!G50","v":0},null,"回","３，０００円/回",null,null,{"$f":"P14*3000","v":0},null,null,null,"円"]
[null,null,null,"(3)","期間内に１日に５０回以上の接種を行った。",null,null,null,null,null,null,null,null,"日数",null,{"$f":"'様式2-1個別接種(診療所用)'!G51","v":0},null,"日","１００，０００円/日",null,null,{"$f":"P15*100000","v":0},null,null,null,"円"]
[null,null,null,"※（病院）50回以上接種日数計は第10期から補助対象外",null,null,null,null,null,null,null,null,null,null,null,null,null,null,"基準額合計",null,null,{"$f":"SUM(V13:Y15)","v":0},null,null,null,"円","（ａ）"]
[]
[null,"②個別接種体制確保事業"]
[null,"施設区分",null,"事業内容",null,null,null,null,null,null,"算出内訳",null,null,null,null,null,null,null,"補助単価",null,null,"基準額"]
[null,"病院",null,"(4)","期間内に特別な接種体制を確保し、１日５０回以上の接種を週１日以上達成する週が４週間以上あった。",null,null,null,null,null,"医師",null,null,null,{"$f":"'様式2-1個別接種(病院用)'!G47","v":0},null,null,"時間","７，５５０円/ｈ",null,null,{"$f":"O20*7550","v":0},null,null,null,"円"]
[null,null,null,null,null,null,null,null,null,null,"看護師等",null,null,null,{"$f":"'様式2-1個別接種(病院用)'!G48","v":0},null,null,"時間","２，７６０円/ｈ",null,null,{"$f":"O21*2760","v":0},null,null,null,"円"]
[null,null,null,null,null,null,null,null,null,null,null,null,null,null,null,null,null,null,"基準額合計",null,null,{"$f":"SUM(V20:Y21)","v":0},null,null,null,"円","（ｂ）"]
[]
[null,"補助金交付申請総額  （a）＋（b）",null,null,null,null,null,null,null,null,null,null,null,null,null,null,null,null,{"$f":"V16+V22","v":0},null,null,null,null,null,null,"円"]
[]
["３　収支予算書"]
[null,"収入の部"]
[null,"区分",null,null,null,null,"予算額"]
[null,"県補助金",null,null,null,null,{"$f":"S24","v":0},null,null,null,null,null,null,"円"]
[null,"支出の部"]
[null,null,null,null,null,null,"予算額"]
[null,"賃金・報酬等",null,null,null,null,{"$f":"S24","v":0},null,null,null,null,null,null,"円"]
[]
[]
[null,"【振込先口座情報】"]
[null,"熊本県新型コロナウイルスワクチン個別接種促進事業費補助金に係る振込口座については下記のとおりです。"]
[null,"金融機関名",null,null,null,{"$f":"基本情報!C15","v":0},null,null,null,null,null,null,null,null,null,null,null,"金融機関\nコード",null,null,{"$f":"IF(基本情報!C16=\"\",\"\",基本情報!C16)","v":""},{"$f":"IF(基本情報!D16=\"\",\"\",基本情報!D16)","v":""},{"$f":"IF(基本情報!E16=\"\",\"\",基本情報!E16)","v":""},{"$f":"IF(基本情報!F16=\"\",\"\",基本情報!F16)","v":""}]
[]
[null,"支店名",null,null,null,{"$f":"基本情報!C17","v":0},null,null,null,null,null,null,null,null,null,null,null,"支店\nコード",null,null,{"$f":"IF(基本情報!C18=\"\",\"\",基本情報!C18)","v":""},{"$f":"IF(基本情報!D18=\"\",\"\",基本情報!D18)","v":""},{"$f":"IF(基本情報!E18=\"\",\"\",基本情報!E18)","v":""}]
[]
[null,"預金種類",null,null,null,{"$f":"基本情報!C19","v":0},null,null,null,null,"口座番号（左詰め）",null,null,null,null,null,null,null,{"$f":"IF(基本情報!C20=\"\",\"\",基本情報!C20)","v":""},{"$f":"IF(基本情報!D20=\"\",\"\",基本情報!D20)","v":""},{"$f":"IF(基本情報!E20=\"\",\"\",基本情報!E20)","v":""},{"$f":"IF(基本情報!F20=\"\",\"\",基本情報!F20)","v":""},{"$f":"IF(基本情報!G20=\"\",\"\",基本情報!G20)","v":""},{"$f":"IF(基本情報!H20=\"\",\"\",基本情報!H20)","v":""},{"$f":"IF(基本情報!I20=\"\",\"\",基本情報!I20)","v":""},{"$f":"IF(基本情報!J20=\"\",\"\",基本情報!J20)","v":""}]
[]
[null,"（フリガナ）",null,null,null,{"$f":"基本情報!C21","v":0}]
[null,"口座名義人",null,null,null,{"$f":"基本情報!C22","v":0}]
[null,"※振込先の口座は、申請者名義の口座を入力してください。申請者名義以外の口座に振込む場合は委任状が必要となります。"]
[null,"※振込先口座の確認のため、通帳等の写し等（金融機関名・店名・口座番号・口座名義（氏名・カナ）が確認できる書類）を添付してください。"]

{"sheet":"様式5実績報告書","index":4,"n_rows":38,"n_cols":12,"rows_kept":38,"cut":false,"hidden":false,"merged":[[18,0,19,11],[26,0,26,11],[21,0,23,11],[10,7,10,11],[35,9,35,11],[11,7,11,11],[36,0,36,3],[36,9,36,11],[35,0,35,1],[35,2,35,6],[36,4,36,6],[35,7,35,8],[36,7,36,8],[12,7,12,11],[13,7,13,11],[9,7,9,8],[0,0,0,4],[7,0,7,5]]}
["　基本情報入力画面へ戻る"]
["様式５"]
[]
[]
[null,null,null,null,null,null,null,null,null,null,null,{"$f":"\"令和\"&基本情報!E46&\"年\"&基本情報!G46&\"月\"&基本情報!I46&\"日\"","v":"令和年月日"}]
[]
[]
["　熊本県知事　蒲島　郁夫　様"]
[]
[null,null,null,null,null,null,null,{"$f":"\"〒\"&基本情報!D3","v":"〒"}]
[null,null,null,null,null,null,"住所：",{"$f":"基本情報!C4","v":0}]
[null,null,null,null,null,null,"法人名：",{"$f":"基本情報!C5","v":0}]
[null,null,null,null,null,null,"代表者職・氏名：",{"$f":"基本情報!C6","v":0}]
[null,null,null,null,null,null,"医療機関等名：",{"$f":"基本情報!C7","v":0}]
[]
[]
[]
[]
["　　　令和４年度（２０２２年度）熊本県新型コロナウイルスワクチン個別接種促進事業費補助金\n　　　実績報告書"]
[]
[]
[{"$f":"\"  \"&\"令和\"&基本情報!E48&\"年\"&基本情報!G48&\"月\"&基本情報!I48&\"日付け健危管第\"&基本情報!F47&\"号の交付決定通知に基づき、標記補助金を実施したので、熊本県補助金等交付規則第１３条及び標記補助金交付要項第１４条の規定により、関係書類を添えてその実績を報告します。\"","v":"  令和年月日付け健危管第号の交付決定通知に基づき、標記補助金を実施したので、熊本県補助金等交付規則第１３条及び標記補助金交付要項第１４条の規定により、関係書類を添えてその実績を報告します。"}]
[]
[]
[]
[]
["　添付書類"]
["　・事業実績報告書（様式６）"]
["　・個別接種実績書（様式２－１）"]
[]
[]
[]
[]
[]
["【担当者等】"]
["　担当者氏名：",null,{"$f":"基本情報!C9","v":0},null,null,null,null," 電話番号：",null,{"$f":"基本情報!C10","v":0}]
["　書類発行責任者職・氏名：",null,null,null,{"$f":"基本情報!C11","v":0},null,null," 電話番号：",null,{"$f":"基本情報!C12","v":0}]
["　※補助事業者の押印を省略する場合は、書類発行責任者の氏名等を記載すること。"]

{"sheet":"様式6事業実績報告","index":5,"n_rows":32,"n_cols":27,"rows_kept":32,"cut":false,"hidden":false,"merged":[[5,1,5,4],[5,5,5,14],[5,15,5,18],[5,19,5,26],[0,0,0,6],[2,0,2,26],[3,0,3,26],[4,1,4,4],[4,15,4,18],[14,21,14,24],[7,0,7,26],[8,1,8,2],[8,3,8,9],[11,1,11,2],[11,3,11,12],[11,13,11,17],[11,18,11,20],[11,21,11,25],[12,21,12,24],[13,4,13,12],[13,13,13,14],[13,15,13,16],[13,18,13,20],[13,21,13,24],[12,1,14,2],[15,18,15,20],[15,21,15,24],[18,1,18,2],[18,3,18,9],[18,10,18,17],[18,18,18,20],[18,21,18,25],[12,4,12,12],[12,13,12,14],[12,15,12,16],[12,18,12,20],[14,4,14,12],[14,13,14,14],[14,15,14,16],[14,18,14,20],[21,15,21,17],[21,18,21,20],[21,21,21,24],[19,1,20,2],[19,3,20,3],[19,4,20,9],[19,10,19,13],[19,14,19,16],[19,18,19,20],[19,21,19,24],[20,10,20,13],[20,14,20,16],[20,18,20,20],[20,21,20,24],[30,6,30,13],[31,1,31,5],[31,6,31,12],[23,1,23,17],[23,18,23,24],[25,0,25,26],[27,1,27,5],[27,6,27,13],[28,1,28,5],[28,6,28,12]]}
["基本情報入力画面へ戻る"]
["様式６"]
["新型コロナウイルスワクチン個別接種促進事業費補助金事業実績報告書"]
["１　補助事業者"]
[null,"医療機関\nコード(10桁)",null,null,null,4,3,1,{"$f":"基本情報!F8","v":0},{"$f":"基本情報!G8","v":0},{"$f":"基本情報!H8","v":0},{"$f":"基本情報!I8","v":0},{"$f":"基本情報!J8","v":0},{"$f":"基本情報!K8","v":0},{"$f":"基本情報!L8","v":0}]
[null,"医療機関名",null,null,null,{"$f":"基本情報!C7","v":0}]
[]
["２　事業実績"]
[null,"対象期間",null,{"$f":"基本情報!C26","v":"第10期　12月4日から2月4日の間"}]
[]
[null,"①個別接種事業"]
[null,"施設区分",null,"事業内容",null,null,null,null,null,null,null,null,null,"算出内訳",null,null,null,null,"補助単価",null,null,"基準額"]
[null,"診療所",null,"(1)","期間内に週１００回以上の接種を４週間以上行った。",null,null,null,null,null,null,null,null,"接種回数",null,{"$f":"'様式2-1個別接種(診療所用)'!G49","v":0},null,"回","２，０００円/回",null,null,{"$f":"P13*2000","v":0},null,null,null,"円"]
[null,null,null,"(2)","期間内に週１５０回以上の接種を４週間以上行った。",null,null,null,null,null,null,null,null,"接種回数",null,{"$f":"'様式2-1個別接種(診療所用)'!G50","v":0},null,"回","３，０００円/回",null,null,{"$f":"P14*3000","v":0},null,null,null,"円"]
[null,null,null,"(3)","期間内に１日に５０回以上の接種を行った。",null,null,null,null,null,null,null,null,"日数",null,{"$f":"'様式2-1個別接種(診療所用)'!G51","v":0},null,"日","１００，０００円/日",null,null,{"$f":"P15*100000","v":0},null,null,null,"円"]
[null,null,null,"※（病院）50回以上接種日数計は第10期から補助対象外",null,null,null,null,null,null,null,null,null,null,null,null,null,null,"基準額合計",null,null,{"$f":"SUM(V13:Y15)","v":0},null,null,null,"円","（c）"]
[]
[null,"②個別接種体制確保事業"]
[null,"施設区分",null,"事業内容",null,null,null,null,null,null,"算出内訳",null,null,null,null,null,null,null,"補助単価",null,null,"基準額"]
[null,"病院",null,"(4)","期間内に特別な接種体制を確保し、１日５０回以上の接種を週１日以上達成する週が４週間以上あった。",null,null,null,null,null,"医師",null,null,null,{"$f":"'様式2-1個別接種(病院用)'!G47","v":0},null,null,"時間","７，５５０円/ｈ",null,null,{"$f":"O20*7550","v":0},null,null,null,"円"]
[null,null,null,null,null,null,null,null,null,null,"看護師等",null,null,null,{"$f":"'様式2-1個別接種(病院用)'!G48","v":0},null,null,"時間","２，７６０円/ｈ",null,null,{"$f":"O21*2760","v":0},null,null,null,"円"]
[null,null,null,null,null,null,null,null,null,null,null,null,null,null,null,null,null,null,"基準額合計",null,null,{"$f":"SUM(V20:Y21)","v":0},null,null,null,"円","（d）"]
[]
[null,"補助金実績総額  （c）＋（d）",null,null,null,null,null,null,null,null,null,null,null,null,null,null,null,null,{"$f":"V16+V22","v":0},null,null,null,null,null,null,"円"]
[]
["３　収支精算書"]
[null,"収入の部"]
[null,"区分",null,null,null,null,"精算額"]
[null,"県補助金",null,null,null,null,{"$f":"S24","v":0},null,null,null,null,null,null,"円"]
[null,"支出の部"]
[null,null,null,null,null,null,"精算額"]
[null,"賃金・報酬等",null,null,null,null,{"$f":"S24","v":0},null,null,null,null,null,null,"円"]

{"sheet":"様式2-1個別接種(病院用)","index":6,"n_rows":49,"n_cols":23,"rows_kept":49,"cut":false,"hidden":false,"merged":[[0,0,0,1],[1,1,1,8],[59,2,59,3],[48,2,48,3],[49,2,49,3],[50,2,50,3],[51,2,51,3],[5,8,6,9],[2,0,2,11],[5,10,6,10],[5,11,6,11],[4,1,4,6],[52,2,52,3],[46,1,46,5],[47,1,47,5],[61,2,61,3],[62,2,62,3],[53,2,53,3],[54,2,54,3],[55,2,55,3],[56,2,56,3],[57,2,57,3],[58,2,58,3],[60,2,60,3]]}
["基本情報入力画面へ戻る"]
["様式2-1（病院用）"]
["　新型コロナウイルスワクチン個別接種（計画書・実績書 ）"]
[]
["医療機関名：",{"$f":"基本情報!C7","v":0}]
[null,null,null,null,null,null,null,null,"週の合計\n※特別体制については、50回行った日の時間数のみ足し上げ",null,"1日当たり\n50回以上接種を\n行った日","備考"]
[null,"（日）","（月）","（火）","（水）","（木）","（金）","（土）"]
[null,"2022-12-04",{"$f":"B8+1","v":"2022-12-05"},{"$f":"C8+1","v":"2022-12-06"},"2022-12-07","2022-12-08",{"$f":"F8+1","v":"2022-12-09"},{"$f":"G8+1","v":"2022-12-10"},null,null,null,null,null,null,"（日）","（月）","（火）","（水）","（木）","（金）","（土）"]
["接種回数（※１）",null,null,null,null,null,null,null,null,null,{"$f":"COUNTIF(B9:H9,\">=50\")","v":0},"（参考）",null,null,{"$f":"IF(IF(B9>=50,1,0)=0,0,IF(B10=0,0,IF(B9>=50,1,0)))","v":0},{"$f":"IF(IF(C9>=50,1,0)=0,0,IF(C10=0,0,IF(C9>=50,1,0)))","v":0},0,0,0,0,0,{"$f":"SUM(O9:U9)","v":0},{"$f":"IF(V9>=1,1,0)","v":0}]
["(特別体制)医師の延べ時間",null,null,null,null,null,null,null,{"$f":"ROUNDDOWN(SUMIFS(B10:H10,B9:H9,\">=50\"),0)","v":0},"時間"]
["(〃)看護師等の延べ時間",null,null,null,null,null,null,null,{"$f":"ROUNDDOWN(SUMIFS(B11:H11,B9:H9,\">=50\"),0)","v":0},"時間"]
[null,{"$f":"H8+1","v":"2022-12-11"},{"$f":"B12+1","v":"2022-12-12"},{"$f":"C12+1","v":"2022-12-13"},"2022-12-14","2022-12-15","2022-12-16",{"$f":"G12+1","v":"2022-12-17"}]
["接種回数（※１）",null,null,null,null,null,null,null,null,null,{"$f":"COUNTIF(B13:H13,\">=50\")","v":0},"（参考）",null,null,{"$f":"IF(IF(B13>=50,1,0)=0,0,IF(B14=0,0,IF(B13>=50,1,0)))","v":0},{"$f":"IF(IF(C13>=50,1,0)=0,0,IF(C14=0,0,IF(C13>=50,1,0)))","v":0},{"$f":"IF(IF(D13>=50,1,0)=0,0,IF(D14=0,0,IF(D13>=50,1,0)))","v":0},{"$f":"IF(IF(E13>=50,1,0)=0,0,IF(E14=0,0,IF(E13>=50,1,0)))","v":0},{"$f":"IF(IF(F13>=50,1,0)=0,0,IF(F14=0,0,IF(F13>=50,1,0)))","v":0},{"$f":"IF(IF(G13>=50,1,0)=0,0,IF(G14=0,0,IF(G13>=50,1,0)))","v":0},{"$f":"IF(IF(H13>=50,1,0)=0,0,IF(H14=0,0,IF(H13>=50,1,0)))","v":0},{"$f":"SUM(O13:U13)","v":0},{"$f":"IF(V13>=1,1,0)","v":0}]
["(特別体制)医師の延べ時間",null,null,null,null,null,null,null,{"$f":"ROUNDDOWN(SUMIFS(B14:H14,B13:H13,\">=50\"),0)","v":0},"時間"]
["(〃)看護師等の延べ時間",null,null,null,null,null,null,null,{"$f":"ROUNDDOWN(SUMIFS(B15:H15,B13:H13,\">=50\"),0)","v":0},"時間"]
[null,{"$f":"H12+1","v":"2022-12-18"},{"$f":"B16+1","v":"2022-12-19"},"2022-12-20","2022-12-21","2022-12-22","2022-12-23",{"$f":"G16+1","v":"2022-12-24"}]
["接種回数（※１）",null,null,null,null,null,null,null,null,null,{"$f":"COUNTIF(B17:H17,\">=50\")","v":0},"（参考）",null,null,{"$f":"IF(IF(B17>=50,1,0)=0,0,IF(B18=0,0,IF(B17>=50,1,0)))","v":0},{"$f":"IF(IF(C17>=50,1,0)=0,0,IF(C18=0,0,IF(C17>=50,1,0)))","v":0},{"$f":"IF(IF(D17>=50,1,0)=0,0,IF(D18=0,0,IF(D17>=50,1,0)))","v":0},{"$f":"IF(IF(E17>=50,1,0)=0,0,IF(E18=0,0,IF(E17>=50,1,0)))","v":0},{"$f":"IF(IF(F17>=50,1,0)=0,0,IF(F18=0,0,IF(F17>=50,1,0)))","v":0},{"$f":"IF(IF(G17>=50,1,0)=0,0,IF(G18=0,0,IF(G17>=50,1,0)))","v":0},{"$f":"IF(IF(H17>=50,1,0)=0,0,IF(H18=0,0,IF(H17>=50,1,0)))","v":0},{"$f":"SUM(O17:U17)","v":0},{"$f":"IF(V17>=1,1,0)","v":0}]
["(特別体制)医師の延べ時間",null,null,null,null,null,null,null,{"$f":"ROUNDDOWN(SUMIFS(B18:H18,B17:H17,\">=50\"),0)","v":0},"時間"]
["(〃)看護師等の延べ時間",null,null,null,null,null,null,null,{"$f":"ROUNDDOWN(SUMIFS(B19:H19,B17:H17,\">=50\"),0)","v":0},"時間"]
[null,{"$f":"H16+1","v":"2022-12-25"},{"$f":"B20+1","v":"2022-12-26"},"2022-12-27","2022-12-28","2022-12-29","2022-12-30",{"$f":"G20+1","v":"2022-12-31"}]
["接種回数（※１）",null,null,null,null,null,null,null,null,null,{"$f":"COUNTIF(B21:H21,\">=50\")","v":0},"（参考）",null,null,{"$f":"IF(IF(B21>=50,1,0)=0,0,IF(B22=0,0,IF(B21>=50,1,0)))","v":0},{"$f":"IF(IF(C21>=50,1,0)=0,0,IF(C22=0,0,IF(C21>=50,1,0)))","v":0},{"$f":"IF(IF(D21>=50,1,0)=0,0,IF(D22=0,0,IF(D21>=50,1,0)))","v":0},{"$f":"IF(IF(E21>=50,1,0)=0,0,IF(E22=0,0,IF(E21>=50,1,0)))","v":0},{"$f":"IF(IF(F21>=50,1,0)=0,0,IF(F22=0,0,IF(F21>=50,1,0)))","v":0},{"$f":"IF(IF(G21>=50,1,0)=0,0,IF(G22=0,0,IF(G21>=50,1,0)))","v":0},{"$f":"IF(IF(H21>=50,1,0)=0,0,IF(H22=0,0,IF(H21>=50,1,0)))","v":0},{"$f":"SUM(O21:U21)","v":0},{"$f":"IF(V21>=1,1,0)","v":0}]
["(特別体制)医師の延べ時間",null,null,null,null,null,null,null,{"$f":"ROUNDDOWN(SUMIFS(B22:H22,B21:H21,\">=50\"),0)","v":0},"時間"]
["(〃)看護師等の延べ時間",null,null,null,null,null,null,null,{"$f":"ROUNDDOWN(SUMIFS(B23:H23,B21:H21,\">=50\"),0)","v":0},"時間"]
[null,{"$f":"H20+1","v":"2023-01-01"},{"$f":"B24+1","v":"2023-01-02"},"2023-01-03","2023-01-04","2023-01-05","2023-01-06",{"$f":"G24+1","v":"2023-01-07"}]
["接種回数（※１）",null,null,null,null,null,null,null,null,null,{"$f":"COUNTIF(B25:H25,\">=50\")","v":0},"（参考）",null,null,{"$f":"IF(IF(B25>=50,1,0)=0,0,IF(B26=0,0,IF(B25>=50,1,0)))","v":0},{"$f":"IF(IF(C25>=50,1,0)=0,0,IF(C26=0,0,IF(C25>=50,1,0)))","v":0},{"$f":"IF(IF(D25>=50,1,0)=0,0,IF(D26=0,0,IF(D25>=50,1,0)))","v":0},{"$f":"IF(IF(E25>=50,1,0)=0,0,IF(E26=0,0,IF(E25>=50,1,0)))","v":0},{"$f":"IF(IF(F25>=50,1,0)=0,0,IF(F26=0,0,IF(F25>=50,1,0)))","v":0},{"$f":"IF(IF(G25>=50,1,0)=0,0,IF(G26=0,0,IF(G25>=50,1,0)))","v":0},{"$f":"IF(IF(H25>=50,1,0)=0,0,IF(H26=0,0,IF(H25>=50,1,0)))","v":0},{"$f":"SUM(O25:U25)","v":0},{"$f":"IF(V25>=1,1,0)","v":0}]
["(特別体制)医師の延べ時間",null,null,null,null,null,null,null,{"$f":"ROUNDDOWN(SUMIFS(B26:H26,B25:H25,\">=50\"),0)","v":0},"時間"]
["(〃)看護師等の延べ時間",null,null,null,null,null,null,null,{"$f":"ROUNDDOWN(SUMIFS(B27:H27,B25:H25,\">=50\"),0)","v":0},"時間"]
[null,{"$f":"H24+1","v":"2023-01-08"},{"$f":"B28+1","v":"2023-01-09"},"2023-01-10","2023-01-11","2023-01-12","2023-01-13",{"$f":"G28+1","v":"2023-01-14"}]
["接種回数（※１）",null,null,null,null,null,null,null,null,null,{"$f":"COUNTIF(B29:H29,\">=50\")","v":0},"（参考）",null,null,{"$f":"IF(IF(B29>=50,1,0)=0,0,IF(B30=0,0,IF(B29>=50,1,0)))","v":0},{"$f":"IF(IF(C29>=50,1,0)=0,0,IF(C30=0,0,IF(C29>=50,1,0)))","v":0},{"$f":"IF(IF(D29>=50,1,0)=0,0,IF(D30=0,0,IF(D29>=50,1,0)))","v":0},{"$f":"IF(IF(E29>=50,1,0)=0,0,IF(E30=0,0,IF(E29>=50,1,0)))","v":0},{"$f":"IF(IF(F29>=50,1,0)=0,0,IF(F30=0,0,IF(F29>=50,1,0)))","v":0},{"$f":"IF(IF(G29>=50,1,0)=0,0,IF(G30=0,0,IF(G29>=50,1,0)))","v":0},{"$f":"IF(IF(H29>=50,1,0)=0,0,IF(H30=0,0,IF(H29>=50,1,0)))","v":0},{"$f":"SUM(O29:U29)","v":0},{"$f":"IF(V29>=1,1,0)","v":0}]
["(特別体制)医師の延べ時間",null,null,null,null,null,null,null,{"$f":"ROUNDDOWN(SUMIFS(B30:H30,B29:H29,\">=50\"),0)","v":0},"時間"]
["(〃)看護師等の延べ時間",null,null,null,null,null,null,null,{"$f":"ROUNDDOWN(SUMIFS(B31:H31,B29:H29,\">=50\"),0)","v":0},"時間"]
[null,{"$f":"H28+1","v":"2023-01-15"},{"$f":"B32+1","v":"2023-01-16"},"2023-01-17","2023-01-18","2023-01-19","2023-01-20",{"$f":"G32+1","v":"2023-01-21"}]
["接種回数（※１）",null,null,null,null,null,null,null,null,null,{"$f":"COUNTIF(B33:H33,\">=50\")","v":0},"（参考）",null,null,{"$f":"IF(IF(B33>=50,1,0)=0,0,IF(B34=0,0,IF(B33>=50,1,0)))","v":0},{"$f":"IF(IF(C33>=50,1,0)=0,0,IF(C34=0,0,IF(C33>=50,1,0)))","v":0},{"$f":"IF(IF(D33>=50,1,0)=0,0,IF(D34=0,0,IF(D33>=50,1,0)))","v":0},{"$f":"IF(IF(E33>=50,1,0)=0,0,IF(E34=0,0,IF(E33>=50,1,0)))","v":0},{"$f":"IF(IF(F33>=50,1,0)=0,0,IF(F34=0,0,IF(F33>=50,1,0)))","v":0},{"$f":"IF(IF(G33>=50,1,0)=0,0,IF(G34=0,0,IF(G33>=50,1,0)))","v":0},{"$f":"IF(IF(H33>=50,1,0)=0,0,IF(H34=0,0,IF(H33>=50,1,0)))","v":0},{"$f":"SUM(O33:U33)","v":0},{"$f":"IF(V33>=1,1,0)","v":0}]
["(特別体制)医師の延べ時間",null,null,null,null,null,null,null,{"$f":"ROUNDDOWN(SUMIFS(B34:H34,B33:H33,\">=50\"),0)","v":0},"時間"]
["(〃)看護師等の延べ時間",null,null,null,null,null,null,null,{"$f":"ROUNDDOWN(SUMIFS(B35:H35,B33:H33,\">=50\"),0)","v":0},"時間"]
[null,{"$f":"H32+1","v":"2023-01-22"},{"$f":"B36+1","v":"2023-01-23"},"2023-01-24","2023-01-25","2023-01-26",{"$f":"IF(F36=Sheet1!G6,\"\",F36+1)","v":"2023-01-27"},{"$f":"IF(G36=\"\",\"\",G36+1)","v":"2023-01-28"}]
["接種回数（※１）",null,null,null,null,null,null,null,null,null,{"$f":"COUNTIF(B37:H37,\">=50\")","v":0},"（参考）",null,null,{"$f":"IF(IF(B37>=50,1,0)=0,0,IF(B38=0,0,IF(B37>=50,1,0)))","v":0},{"$f":"IF(IF(C37>=50,1,0)=0,0,IF(C38=0,0,IF(C37>=50,1,0)))","v":0},{"$f":"IF(IF(D37>=50,1,0)=0,0,IF(D38=0,0,IF(D37>=50,1,0)))","v":0},{"$f":"IF(IF(E37>=50,1,0)=0,0,IF(E38=0,0,IF(E37>=50,1,0)))","v":0},{"$f":"IF(IF(F37>=50,1,0)=0,0,IF(F38=0,0,IF(F37>=50,1,0)))","v":0},{"$f":"IF(IF(G37>=50,1,0)=0,0,IF(G38=0,0,IF(G37>=50,1,0)))","v":0},{"$f":"IF(IF(H37>=50,1,0)=0,0,IF(H38=0,0,IF(H37>=50,1,0)))","v":0},{"$f":"SUM(O37:U37)","v":0},{"$f":"IF(V37>=1,1,0)","v":0}]
["(特別体制)医師の延べ時間",null,null,null,null,null,null,null,{"$f":"ROUNDDOWN(SUMIFS(B38:H38,B37:H37,\">=50\"),0)","v":0},"時間"]
["(〃)看護師等の延べ時間",null,null,null,null,null,null,null,{"$f":"ROUNDDOWN(SUMIFS(B39:H39,B37:H37,\">=50\"),0)","v":0},"時間"]
[null,{"$f":"H36+1","v":"2023-01-29"},{"$f":"B40+1","v":"2023-01-30"},{"$f":"C40+1","v":"2023-01-31"},{"$f":"D40+1","v":"2023-02-01"},{"$f":"E40+1","v":"2023-02-02"},{"$f":"IF(F40=Sheet1!G10,\"\",F40+1)","v":"2023-02-03"},{"$f":"IF(G40=\"\",\"\",G40+1)","v":"2023-02-04"}]
["接種回数（※１）",null,null,null,null,null,null,null,null,null,{"$f":"COUNTIF(B41:H41,\">=50\")","v":0},"（参考）",null,null,{"$f":"IF(IF(B41>=50,1,0)=0,0,IF(B42=0,0,IF(B41>=50,1,0)))","v":0},{"$f":"IF(IF(C41>=50,1,0)=0,0,IF(C42=0,0,IF(C41>=50,1,0)))","v":0},{"$f":"IF(IF(D41>=50,1,0)=0,0,IF(D42=0,0,IF(D41>=50,1,0)))","v":0},{"$f":"IF(IF(E41>=50,1,0)=0,0,IF(E42=0,0,IF(E41>=50,1,0)))","v":0},{"$f":"IF(IF(F41>=50,1,0)=0,0,IF(F42=0,0,IF(F41>=50,1,0)))","v":0},{"$f":"IF(IF(G41>=50,1,0)=0,0,IF(G42=0,0,IF(G41>=50,1,0)))","v":0},{"$f":"IF(IF(H41>=50,1,0)=0,0,IF(H42=0,0,IF(H41>=50,1,0)))","v":0},{"$f":"SUM(O41:U41)","v":0},{"$f":"IF(V41>=1,1,0)","v":0}]
["(特別体制)医師の延べ時間",null,null,null,null,null,null,null,{"$f":"ROUNDDOWN(SUMIFS(B42:H42,B41:H41,\">=50\"),0)","v":0},"時間"]
["(〃)看護師等の延べ時間",null,null,null,null,null,null,null,{"$f":"ROUNDDOWN(SUMIFS(B43:H43,B41:H41,\">=50\"),0)","v":0},"時間"]
["※１：本報告書の「接種回数（※１）」には、集団接種である大規模接種会場・市町村特設会場等の実績は含まない。",null,null,null,null,null,null,null,null,null,null,null,null,null,null,null,null,null,null,null,null,null,{"$f":"SUM(W9:W43)","v":0}]
[]
[null,"※「50回以上接種日数計」は第10期から補助対象外"]
[null,"(特別体制)医師の延べ時間計",null,null,null,null,{"$f":"IF(W44>=4,SUM(I10,I14,I18,I22,I26,I30,I34,I38,I42),0)","v":0},"時間"]
[null,"(     〃     )看護師等の延べ時間計",null,null,null,null,{"$f":"IF(W44>=4,SUM(I11,I15,I19,I23,I27,I31,I35,I39,I43),0)","v":0},"時間"]
[null,null,null,null,null,null,null,null,{"$f":"SUM(B9:H9,B13:H13,B17:H17,B21:H21,B25:H25,B29:H29,B33:H33,B37:H37,B41:H41)","v":0},"回"]

{"sheet":"様式2-1個別接種(診療所用)","index":7,"n_rows":52,"n_cols":40,"rows_kept":52,"cut":false,"hidden":false,"merged":[[6,26,6,28],[6,30,6,33],[6,35,6,39],[64,2,64,3],[65,2,65,3],[5,8,6,8],[57,2,57,3],[58,2,58,3],[59,2,59,3],[60,2,60,3],[61,2,61,3],[62,2,62,3],[52,2,52,3],[53,2,53,3],[54,2,54,3],[55,2,55,3],[56,2,56,3],[63,2,63,3],[50,1,50,5],[49,1,49,5],[40,10,41,10],[44,0,45,10],[47,0,47,10],[46,0,46,10],[48,1,48,5],[24,10,25,10],[28,10,29,10],[32,10,33,10],[36,10,37,10],[5,10,6,10],[8,10,9,10],[12,10,13,10],[16,10,17,10],[6,13,6,16],[6,18,6,24],[4,1,4,6],[2,0,2,10],[20,10,21,10],[5,9,6,9]]}
["基本情報入力画面へ戻る"]
["様式2-1（診療所用）"]
["　新型コロナウイルスワクチン個別接種（計画書・実績書 ）"]
[]
["医療機関名：",{"$f":"基本情報!C7","v":0}]
[null,"※赤枠に記入してください",null,null,null,null,null,null,"週の接種回数","週の回数区分","週当たりの\n追加要件\n（第9期以降）"]
[null,"（日）","（月）","（火）","（水）","（木）","（金）","（土）",null,null,null,null,null,"①接種回数（追加要件も満たす場合）",null,null,null,null,"②５０回以上の日数（追加要件も満たす場合）",null,null,null,null,null,null,null,"③　①または②に該当する日数",null,null,null,"④　4週間達成していない日数",null,null,null,null,"⑤　件数要件も追加要件も満たすかどうか"]
[null,"2022-12-04",{"$f":"B8+1","v":"2022-12-05"},{"$f":"C8+1","v":"2022-12-06"},"2022-12-07","2022-12-08","2022-12-09",{"$f":"G8+1","v":"2022-12-10"},null,null,null,null,null,"100回未満","100回以上","150回以上","100回、150回計",null,"50回以上",null,null,null,null,null,null,"日数計",50,100,150,null,50,100,150,null,null,100,null,null,150]
["時間外等（自身の医療機関内）",null,null,null,null,null,null,null,null,null,{"$f":"IF(COUNTIF(B9:H10,\"〇\"),\"満たす\",\"満たさない\")","v":"満たさない"}]
["時間外等（集団接種会場へ派遣）"]
["接種回数（※１）",null,null,null,null,null,null,null,{"$f":"SUM(B11:H11)","v":0},{"$f":"IF(I11<100,\"100回未満\",IF(I11<150,\"100回以上\",\"150回以上\"))","v":"100回未満"},{"$f":"IF(NOT(OR(J11=\"100回未満\",K9=\"満たさない\")),I11,\"対象外\")","v":"対象外"},null,null,{"$f":"IF(OR(J11=\"100回未満\",K9=\"満たさない\"),I11,\"\")","v":0},{"$f":"IF(AND(J11=\"100回以上\",K9=\"満たす\"),I11,\"\")","v":""},{"$f":"IF(AND(J11=\"150回以上\",K9=\"満たす\"),I11,\"\")","v":""},{"$f":"SUM(O11:P11)","v":0},null,{"$f":"IF(AND(50<=B11,OR(B9=\"〇\",B10=\"〇\")),1,0)","v":0},{"$f":"IF(AND(50<=C11,OR(C9=\"〇\",C10=\"〇\")),1,0)","v":0},0,0,0,0,0,{"$f":"SUM(S11:Y11)","v":0},{"$f":"IF(N11=\"\",0,$Z11)","v":0},{"$f":"IF(O11=\"\",0,$Z11)","v":0},{"$f":"IF(P11=\"\",0,$Z11)","v":0},null,{"$f":"IF(N11=\"\",0,Z11)","v":0},{"$f":"IF(4<=$O$45,0,AB11)","v":0},{"$f":"IF(4<=$Q$45,0,AC11)","v":0},{"$f":"SUM(AE11:AG11)","v":0},null,{"$f":"IF(AND(J11=\"100回以上\",OR(S11:Y11,1)),\"1\",0)","v":0},{"$f":"IF(AJ11>1,COUNTIF(S11:Y11,1),0)","v":0},null,{"$f":"IF(AND(J11=\"150回以上\",OR(S11:Z11,1)),\"1\",0)","v":0},{"$f":"IF(AM11>1,COUNTIF(S11:Y11,1),0)","v":0}]
[null,{"$f":"H8+1","v":"2022-12-11"},{"$f":"B12+1","v":"2022-12-12"},{"$f":"C12+1","v":"2022-12-13"},"2022-12-14","2022-12-15","2022-12-16",{"$f":"G12+1","v":"2022-12-17"},null,null,null,null,null,null,null,null,{"$f":"SUM(O12:P12)","v":0},null,"50回以上",null,null,null,null,null,null,{"$f":"SUM(S12:Y12)","v":0},null,null,null,null,{"$f":"IF(Q12=0,Z12,0)","v":0},{"$f":"IF(4<=$O$45,0,AB12)","v":0},{"$f":"IF(4<=$Q$45,0,AC12)","v":0},{"$f":"SUM(AE12:AG12)","v":0}]
["時間外等（自身の医療機関内）",null,null,null,null,null,null,null,null,null,{"$f":"IF(COUNTIF(B13:H14,\"〇\"),\"満たす\",\"満たさない\")","v":"満たさない"}]
["時間外等（集団接種会場へ派遣）"]
["接種回数（※１）",null,null,null,null,null,null,null,{"$f":"SUM(B15:H15)","v":0},{"$f":"IF(I15<100,\"100回未満\",IF(I15<150,\"100回以上\",\"150回以上\"))","v":"100回未満"},{"$f":"IF(NOT(OR(J15=\"100回未満\",K13=\"満たさない\")),I15,\"対象外\")","v":"対象外"},null,null,{"$f":"IF(OR(J15=\"100回未満\",K13=\"満たさない\"),I15,\"\")","v":0},{"$f":"IF(AND(J15=\"100回以上\",K13=\"満たす\"),I15,\"\")","v":""},{"$f":"IF(AND(J15=\"150回以上\",K13=\"満たす\"),I15,\"\")","v":""},0,null,{"$f":"IF(AND(50<=B15,OR(B13=\"〇\",B14=\"〇\")),1,0)","v":0},{"$f":"IF(AND(50<=C15,OR(C13=\"〇\",C14=\"〇\")),1,0)","v":0},0,0,0,0,0,{"$f":"SUM(S15:Y15)","v":0},{"$f":"IF(N15=\"\",0,$Z15)","v":0},{"$f":"IF(O15=\"\",0,$Z15)","v":0},{"$f":"IF(P15=\"\",0,$Z15)","v":0},null,{"$f":"IF(Q15=0,Z15,0)","v":0},{"$f":"IF(4<=$O$45,0,AB15)","v":0},{"$f":"IF(4<=$Q$45,0,AC15)","v":0},0,null,{"$f":"IF(AND(J15=\"100回以上\",OR(S15:Y15,1)),\"1\",0)","v":0},{"$f":"IF(AJ15>1,COUNTIF(S15:Y15,1),0)","v":0},null,{"$f":"IF(AND(J15=\"150回以上\",OR(S15:Z15,1)),\"1\",0)","v":0},{"$f":"IF(AM15>1,COUNTIF(S15:Y15,1),0)","v":0}]
[null,{"$f":"H12+1","v":"2022-12-18"},{"$f":"B16+1","v":"2022-12-19"},"2022-12-20","2022-12-21","2022-12-22","2022-12-23",{"$f":"G16+1","v":"2022-12-24"},null,null,null,null,null,null,null,null,0,null,"50回以上",null,null,null,null,null,null,0,null,null,null,null,0,{"$f":"IF(4<=$O$45,0,AB16)","v":0},{"$f":"IF(4<=$Q$45,0,AC16)","v":0},0]
["時間外等（自身の医療機関内）",null,null,null,null,null,null,null,null,null,{"$f":"IF(COUNTIF(B17:H18,\"〇\"),\"満たす\",\"満たさない\")","v":"満たさない"}]
["時間外等（集団接種会場へ派遣）"]
["接種回数（※１）",null,null,null,null,null,null,null,{"$f":"SUM(B19:H19)","v":0},{"$f":"IF(I19<100,\"100回未満\",IF(I19<150,\"100回以上\",\"150回以上\"))","v":"100回未満"},{"$f":"IF(NOT(OR(J19=\"100回未満\",K17=\"満たさない\")),I19,\"対象外\")","v":"対象外"},null,null,{"$f":"IF(OR(J19=\"100回未満\",K17=\"満たさない\"),I19,\"\")","v":0},{"$f":"IF(AND(J19=\"100回以上\",K17=\"満たす\"),I19,\"\")","v":""},{"$f":"IF(AND(J19=\"150回以上\",K17=\"満たす\"),I19,\"\")","v":""},0,null,{"$f":"IF(AND(50<=B19,OR(B17=\"〇\",B18=\"〇\")),1,0)","v":0},{"$f":"IF(AND(50<=C19,OR(C17=\"〇\",C18=\"〇\")),1,0)","v":0},0,0,0,0,0,0,{"$f":"IF(N19=\"\",0,$Z19)","v":0},{"$f":"IF(O19=\"\",0,$Z19)","v":0},{"$f":"IF(P19=\"\",0,$Z19)","v":0},null,0,{"$f":"IF(4<=$O$45,0,AB19)","v":0},{"$f":"IF(4<=$Q$45,0,AC19)","v":0},0,null,{"$f":"IF(AND(J19=\"100回以上\",OR(S19:Y19,1)),\"1\",0)","v":0},{"$f":"IF(AJ19>1,COUNTIF(S19:Y19,1),0)","v":0},null,{"$f":"IF(AND(J19=\"150回以上\",OR(S19:Z19,1)),\"1\",0)","v":0},{"$f":"IF(AM19>1,COUNTIF(S19:Y19,1),0)","v":0}]
[null,{"$f":"H16+1","v":"2022-12-25"},{"$f":"B20+1","v":"2022-12-26"},"2022-12-27","2022-12-28","2022-12-29","2022-12-30",{"$f":"G20+1","v":"2022-12-31"},null,null,null,null,null,null,null,null,0,null,"50回以上",null,null,null,null,null,null,0,null,null,null,null,0,{"$f":"IF(4<=$O$45,0,AB20)","v":0},{"$f":"IF(4<=$Q$45,0,AC20)","v":0},0]
["時間外等（自身の医療機関内）",null,null,null,null,null,null,null,null,null,{"$f":"IF(COUNTIF(B21:H22,\"〇\"),\"満たす\",\"満たさない\")","v":"満たさない"}]
["時間外等（集団接種会場へ派遣）"]
["接種回数（※１）",null,null,null,null,null,null,null,{"$f":"SUM(B23:H23)","v":0},{"$f":"IF(I23<100,\"100回未満\",IF(I23<150,\"100回以上\",\"150回以上\"))","v":"100回未満"},{"$f":"IF(NOT(OR(J23=\"100回未満\",K21=\"満たさない\")),I23,\"対象外\")","v":"対象外"},null,null,{"$f":"IF(OR(J23=\"100回未満\",K21=\"満たさない\"),I23,\"\")","v":0},{"$f":"IF(AND(J23=\"100回以上\",K21=\"満たす\"),I23,\"\")","v":""},{"$f":"IF(AND(J23=\"150回以上\",K21=\"満たす\"),I23,\"\")","v":""},0,null,{"$f":"IF(AND(50<=B23,OR(B21=\"〇\",B22=\"〇\")),1,0)","v":0},{"$f":"IF(AND(50<=C23,OR(C21=\"〇\",C22=\"〇\")),1,0)","v":0},0,0,0,0,0,0,{"$f":"IF(N23=\"\",0,$Z23)","v":0},{"$f":"IF(O23=\"\",0,$Z23)","v":0},{"$f":"IF(P23=\"\",0,$Z23)","v":0},null,0,{"$f":"IF(4<=$O$45,0,AB23)","v":0},{"$f":"IF(4<=$Q$45,0,AC23)","v":0},0,null,{"$f":"IF(AND(J23=\"100回以上\",OR(S23:Y23,1)),\"1\",0)","v":0},{"$f":"IF(AJ23>1,COUNTIF(S23:Y23,1),0)","v":0},null,{"$f":"IF(AND(J23=\"150回以上\",OR(S23:Z23,1)),\"1\",0)","v":0},{"$f":"IF(AM23>1,COUNTIF(S23:Y23,1),0)","v":0}]
[null,{"$f":"H20+1","v":"2023-01-01"},{"$f":"B24+1","v":"2023-01-02"},"2023-01-03","2023-01-04","2023-01-05","2023-01-06",{"$f":"G24+1","v":"2023-01-07"},null,null,null,null,null,null,null,null,0,null,"50回以上",null,null,null,null,null,null,0,null,null,null,null,0,{"$f":"IF(4<=$O$45,0,AB24)","v":0},{"$f":"IF(4<=$Q$45,0,AC24)","v":0},0]
["時間外等（自身の医療機関内）",null,null,null,null,null,null,null,null,null,{"$f":"IF(COUNTIF(B25:H26,\"〇\"),\"満たす\",\"満たさない\")","v":"満たさない"}]
["時間外等（集団接種会場へ派遣）"]
["接種回数（※１）",null,null,null,null,null,null,null,{"$f":"SUM(B27:H27)","v":0},{"$f":"IF(I27<100,\"100回未満\",IF(I27<150,\"100回以上\",\"150回以上\"))","v":"100回未満"},{"$f":"IF(NOT(OR(J27=\"100回未満\",K25=\"満たさない\")),I27,\"対象外\")","v":"対象外"},null,null,{"$f":"IF(OR(J27=\"100回未満\",K25=\"満たさない\"),I27,\"\")","v":0},{"$f":"IF(AND(J27=\"100回以上\",K25=\"満たす\"),I27,\"\")","v":""},{"$f":"IF(AND(J27=\"150回以上\",K25=\"満たす\"),I27,\"\")","v":""},0,null,{"$f":"IF(AND(50<=B27,OR(B25=\"〇\",B26=\"〇\")),1,0)","v":0},{"$f":"IF(AND(50<=C27,OR(C25=\"〇\",C26=\"〇\")),1,0)","v":0},0,0,0,0,0,0,{"$f":"IF(N27=\"\",0,$Z27)","v":0},{"$f":"IF(O27=\"\",0,$Z27)","v":0},{"$f":"IF(P27=\"\",0,$Z27)","v":0},null,0,{"$f":"IF(4<=$O$45,0,AB27)","v":0},{"$f":"IF(4<=$Q$45,0,AC27)","v":0},0,null,{"$f":"IF(AND(J27=\"100回以上\",OR(S27:Y27,1)),\"1\",0)","v":0},{"$f":"IF(AJ27>1,COUNTIF(S27:Y27,1),0)","v":0},null,{"$f":"IF(AND(J27=\"150回以上\",OR(S27:Z27,1)),\"1\",0)","v":0},{"$f":"IF(AM27>1,COUNTIF(S27:Y27,1),0)","v":0}]
[null,{"$f":"H24+1","v":"2023-01-08"},{"$f":"B28+1","v":"2023-01-09"},"2023-01-10","2023-01-11","2023-01-12","2023-01-13",{"$f":"G28+1","v":"2023-01-14"},null,null,null,null,null,null,null,null,0,null,"50回以上",null,null,null,null,null,null,0,null,null,null,null,0,{"$f":"IF(4<=$O$45,0,AB28)","v":0},{"$f":"IF(4<=$Q$45,0,AC28)","v":0},0]
["時間外等（自身の医療機関内）",null,null,null,null,null,null,null,null,null,{"$f":"IF(COUNTIF(B29:H30,\"〇\"),\"満たす\",\"満たさない\")","v":"満たさない"}]
["時間外等（集団接種会場へ派遣）"]
["接種回数（※１）",null,null,null,null,null,null,null,{"$f":"SUM(B31:H31)","v":0},{"$f":"IF(I31<100,\"100回未満\",IF(I31<150,\"100回以上\",\"150回以上\"))","v":"100回未満"},{"$f":"IF(NOT(OR(J31=\"100回未満\",K29=\"満たさない\")),I31,\"対象外\")","v":"対象外"},null,null,{"$f":"IF(OR(J31=\"100回未満\",K29=\"満たさない\"),I31,\"\")","v":0},{"$f":"IF(AND(J31=\"100回以上\",K29=\"満たす\"),I31,\"\")","v":""},{"$f":"IF(AND(J31=\"150回以上\",K29=\"満たす\"),I31,\"\")","v":""},0,null,{"$f":"IF(AND(50<=B31,OR(B29=\"〇\",B30=\"〇\")),1,0)","v":0},{"$f":"IF(AND(50<=C31,OR(C29=\"〇\",C30=\"〇\")),1,0)","v":0},0,0,0,0,0,0,{"$f":"IF(N31=\"\",0,$Z31)","v":0},{"$f":"IF(O31=\"\",0,$Z31)","v":0},{"$f":"IF(P31=\"\",0,$Z31)","v":0},null,{"$f":"IF(Q31=0,Z31,0)","v":0},{"$f":"IF(4<=$O$45,0,AB31)","v":0},{"$f":"IF(4<=$Q$45,0,AC31)","v":0},0,null,{"$f":"IF(AND(J31=\"100回以上\",OR(S31:Y31,1)),\"1\",0)","v":0},{"$f":"IF(AJ31>1,COUNTIF(S31:Y31,1),0)","v":0},null,{"$f":"IF(AND(J31=\"150回以上\",OR(S31:Z31,1)),\"1\",0)","v":0},{"$f":"IF(AM31>1,COUNTIF(S31:Y31,1),0)","v":0}]
[null,{"$f":"H28+1","v":"2023-01-15"},{"$f":"B32+1","v":"2023-01-16"},"2023-01-17","2023-01-18","2023-01-19","2023-01-20",{"$f":"G32+1","v":"2023-01-21"},null,null,null,null,null,null,null,null,0,null,"50回以上",null,null,null,null,null,null,0,null,null,null,null,{"$f":"IF(Q32=0,Z32,0)","v":0},{"$f":"IF(4<=$O$45,0,AB32)","v":0},{"$f":"IF(4<=$Q$45,0,AC32)","v":0},0]
["時間外等（自身の医療機関内）",null,null,null,null,null,null,null,null,null,{"$f":"IF(COUNTIF(B33:H34,\"〇\"),\"満たす\",\"満たさない\")","v":"満たさない"}]
["時間外等（集団接種会場へ派遣）"]
["接種回数（※１）",null,null,null,null,null,null,null,{"$f":"SUM(B35:H35)","v":0},{"$f":"IF(I35<100,\"100回未満\",IF(I35<150,\"100回以上\",\"150回以上\"))","v":"100回未満"},{"$f":"IF(NOT(OR(J35=\"100回未満\",K33=\"満たさない\")),I35,\"対象外\")","v":"対象外"},null,null,{"$f":"IF(OR(J35=\"100回未満\",K33=\"満たさない\"),I35,\"\")","v":0},{"$f":"IF(AND(J35=\"100回以上\",K33=\"満たす\"),I35,\"\")","v":""},{"$f":"IF(AND(J35=\"150回以上\",K33=\"満たす\"),I35,\"\")","v":""},0,null,{"$f":"IF(AND(50<=B35,OR(B33=\"〇\",B34=\"〇\")),1,0)","v":0},{"$f":"IF(AND(50<=C35,OR(C33=\"〇\",C34=\"〇\")),1,0)","v":0},0,0,0,0,0,0,{"$f":"IF(N35=\"\",0,$Z35)","v":0},{"$f":"IF(O35=\"\",0,$Z35)","v":0},{"$f":"IF(P35=\"\",0,$Z35)","v":0},null,0,{"$f":"IF(4<=$O$45,0,AB35)","v":0},{"$f":"IF(4<=$Q$45,0,AC35)","v":0},0,null,{"$f":"IF(AND(J35=\"100回以上\",OR(S35:Y35,1)),\"1\",0)","v":0},{"$f":"IF(AJ35>1,COUNTIF(S35:Y35,1),0)","v":0},null,{"$f":"IF(AND(J35=\"150回以上\",OR(S35:Z35,1)),\"1\",0)","v":0},{"$f":"IF(AM35>1,COUNTIF(S35:Y35,1),0)","v":0}]
[null,{"$f":"H32+1","v":"2023-01-22"},{"$f":"B36+1","v":"2023-01-23"},{"$f":"C36+1","v":"2023-01-24"},"2023-01-25","2023-01-26",{"$f":"IF(F36=Sheet1!G6,\"\",F36+1)","v":"2023-01-27"},{"$f":"IF(G36=\"\",\"\",G36+1)","v":"2023-01-28"},null,null,null,null,null,null,null,null,0,null,"50回以上",null,null,null,null,null,null,0,null,null,null,null,0,{"$f":"IF(4<=$O$45,0,AB36)","v":0},{"$f":"IF(4<=$Q$45,0,AC36)","v":0},0]
["時間外等（自身の医療機関内）",null,null,null,null,null,null,null,null,null,{"$f":"IF(COUNTIF(B37:H38,\"〇\"),\"満たす\",\"満たさない\")","v":"満たさない"}]
["時間外等（集団接種会場へ派遣）"]
["接種回数（※１）",null,null,null,null,null,null,null,{"$f":"SUM(B39:H39)","v":0},{"$f":"IF(I39<100,\"100回未満\",IF(I39<150,\"100回以上\",\"150回以上\"))","v":"100回未満"},{"$f":"IF(NOT(OR(J39=\"100回未満\",K37=\"満たさない\")),I39,\"対象外\")","v":"対象外"},null,null,{"$f":"IF(OR(J39=\"100回未満\",K37=\"満たさない\"),I39,\"\")","v":0},{"$f":"IF(AND(J39=\"100回以上\",K37=\"満たす\"),I39,\"\")","v":""},{"$f":"IF(AND(J39=\"150回以上\",K37=\"満たす\"),I39,\"\")","v":""},0,null,{"$f":"IF(AND(50<=B39,OR(B37=\"〇\",B38=\"〇\")),1,0)","v":0},{"$f":"IF(AND(50<=C39,OR(C37=\"〇\",C38=\"〇\")),1,0)","v":0},0,0,0,0,0,0,{"$f":"IF(N39=\"\",0,$Z39)","v":0},{"$f":"IF(O39=\"\",0,$Z39)","v":0},{"$f":"IF(P39=\"\",0,$Z39)","v":0},null,{"$f":"IF(Q39=0,Z39,0)","v":0},{"$f":"IF(4<=$O$45,0,AB39)","v":0},{"$f":"IF(4<=$Q$45,0,AC39)","v":0},{"$f":"SUM(AE39:AG39)","v":0},null,{"$f":"IF(AND(J39=\"100回以上\",OR(S39:Y39,1)),\"1\",0)","v":0},{"$f":"IF(AJ39>1,COUNTIF(S39:Y39,1),0)","v":0},null,{"$f":"IF(AND(J39=\"150回以上\",OR(S39:Z39,1)),\"1\",0)","v":0},{"$f":"IF(AM39>1,COUNTIF(S39:Y39,1),0)","v":0}]
[null,{"$f":"H36+1","v":"2023-01-29"},{"$f":"B40+1","v":"2023-01-30"},{"$f":"C40+1","v":"2023-01-31"},{"$f":"D40+1","v":"2023-02-01"},{"$f":"E40+1","v":"2023-02-02"},{"$f":"IF(F40=Sheet1!G8,\"\",F40+1)","v":"2023-02-03"},{"$f":"IF(G40=\"\",\"\",G40+1)","v":"2023-02-04"},null,null,null,null,null,null,null,null,null,null,null,null,null,null,null,null,null,0,null,null,null,null,0,{"$f":"IF(4<=$O$45,0,AB40)","v":0},{"$f":"IF(4<=$Q$45,0,AC40)","v":0},0]
["時間外等（自身の医療機関内）",null,null,null,null,null,null,null,null,null,{"$f":"IF(COUNTIF(B41:H42,\"〇\"),\"満たす\",\"満たさない\")","v":"満たさない"}]
["時間外等（集団接種会場へ派遣）"]
["接種回数（※１）",null,null,null,null,null,null,null,{"$f":"SUM(B43:H43)","v":0},{"$f":"IF(I43<100,\"100回未満\",IF(I43<150,\"100回以上\",\"150回以上\"))","v":"100回未満"},{"$f":"IF(NOT(OR(J43=\"100回未満\",K41=\"満たさない\")),I43,\"対象外\")","v":"対象外"},null,null,{"$f":"IF(OR(J43=\"100回未満\",K41=\"満たさない\"),I43,\"\")","v":0},{"$f":"IF(AND(J43=\"100回以上\",K41=\"満たす\"),I43,\"\")","v":""},{"$f":"IF(AND(J43=\"150回以上\",K41=\"満たす\"),I43,\"\")","v":""},{"$f":"SUM(O43:P43)","v":0},null,{"$f":"IF(AND(50<=B43,OR(B41=\"〇\",B42=\"〇\")),1,0)","v":0},{"$f":"IF(AND(50<=C43,OR(C41=\"〇\",C42=\"〇\")),1,0)","v":0},0,0,0,0,0,0,{"$f":"IF(N43=\"\",0,$Z43)","v":0},{"$f":"IF(O43=\"\",0,$Z43)","v":0},{"$f":"IF(P43=\"\",0,$Z43)","v":0},null,0,{"$f":"IF(4<=$O$45,0,AB43)","v":0},{"$f":"IF(4<=$Q$45,0,AC43)","v":0},0,null,{"$f":"IF(AND(J43=\"100回以上\",OR(S43:Y43,1)),\"1\",0)","v":0},{"$f":"IF(AJ43>1,COUNTIF(S43:Y43,1),0)","v":0},null,{"$f":"IF(AND(J43=\"150回以上\",OR(S43:Z43,1)),\"1\",0)","v":0},{"$f":"IF(AM43>1,COUNTIF(S43:Y43,1),0)","v":0}]
["※１：本報告書の「接種回数（※１）」には、集団接種である大規模接種会場・市町村特設会場等の実績は含まない。",null,null,null,null,null,null,null,null,null,null,null,null,{"$f":"SUM(N11:N43)","v":0},{"$f":"SUM(O11:O43)","v":0},{"$f":"SUM(P11:P43)","v":0},{"$f":"SUM(O44:P44)","v":0},null,{"$f":"SUM(S11:S43)","v":0},0,0,0,0,0,0,0,0,0,0,null,{"$f":"SUM(AE11:AE43)","v":0},{"$f":"SUM(AF11:AF43)","v":0},{"$f":"SUM(AG11:AG43)","v":0},{"$f":"SUM(AH11:AH43)","v":0},null,{"$f":"COUNTIF(AJ11:AJ43,\"1\")","v":0},{"$f":"SUM(AK11:AK43)","v":0},null,{"$f":"COUNTIF(AM11:AM43,\"1\")","v":0},{"$f":"SUM(AN11:AN43)","v":0}]
["※２：①週100(150）回以上の接種を4週間以上行い、②それぞれの1週間のうち、少なくとも1日は、時間外、夜間または休日に接種体制を用意した場合に、\n　補助対象となる（第9期以降）。（①のみまたは②のみは、補助対象外）",null,null,null,null,null,null,null,null,null,null,null,null,"カウント",{"$f":"COUNT(O11:O43)","v":0},{"$f":"COUNT(P11:P43)","v":0},{"$f":"SUM(O45:P45)","v":0},null,null,null,null,null,null,null,null,null,null,null,null,null,{"$f":"IF(1>IF(P45>=4,IF(O45>=4,AE44,O45+P45+AE44)-P45,IF(O45>=4,AE44,O45+P45+AE44)),AE44,IF(P45>=4,IF(O45>=4,AE44,O45+P45+AE44)-P45,IF(O45>=4,AE44,O45+P45+AE44)))","v":0},null,null,null,null,{"$f":"IF(AJ44<4,SUM(AK11:AK43,0),)","v":0},null,null,{"$f":"IF(AM44<4,SUM(AN11:AN43,0),)","v":0}]
[null,null,null,null,null,null,null,null,null,null,null,null,null,null,{"$f":"IF(O45>=4,O44,0)","v":0},{"$f":"IF(P45>=4,P44,0)","v":0}]
["※３：50回以上/日接種を行ったその日において、時間外、夜間または休日に接種体制を用意した場合に、補助対象となる（第9期以降）。",null,null,null,null,null,null,null,null,null,null,null,null,null,{"$f":"IF(P45>=4,O46,O46+P46)","v":0}]
[null,null,null,null,null,null,null,null,null,null,null,null,null,null,{"$f":"IF(O45<4,O46,O47)","v":0}]
[null,"(1)接種回数計（※１）100回以上",null,null,null,null,{"$f":"O48","v":0},"回",null,null,null,null,null,null,{"$f":"IF(O48=0,AK44)","v":0},{"$f":"IF(P46=0,AN44)","v":0}]
[null,"(2)接種回数計（※１）150回以上",null,null,null,null,{"$f":"P46","v":0},"回",null,null,null,null,null,null,{"$f":"SUM(O49,P49,AA44)","v":0}]
[null,"(3)50回以上接種日数計（※１、３）",null,null,null,null,{"$f":"O50","v":0},"日"]
[null,"※(1)と(2)の同一週での重複及び(1)又は(2)と(3)との重複はできません。"]

{"sheet":"Sheet1","index":8,"n_rows":17,"n_cols":7,"rows_kept":17,"cut":false,"hidden":true,"merged":[]}
[]
[null,"第１期　５月９日から７月３１日の間",null,null,null,"2021-05-09","2021-07-31"]
[null,"第２期　８月１日から１０月２日の間",null,null,null,"2021-08-01","2021-10-02"]
[null,"第３期　１０月３日から１２月４日の間",null,null,null,"2021-10-03","2021-12-04"]
[null,"第４期　１２月５日から２月５日の間",null,null,null,"2021-12-05","2022-02-05"]
[null,"第５期　２月６日から３月３１日の間",null,null,null,"2022-02-06","2022-03-31"]
[null,null,null,null,null,{"$f":"VLOOKUP(基本情報!C26,B2:F6,5,0)","v":{"$error":"#N/A"}}]
[]
[]
[]
[null,"普通預金"]
[null,"貯蓄預金"]
[null,"当座預金"]
[]
[null,"100回未満"]
[null,"100回以上"]
[null,"150回以上"]